{
 "currentVersion": 11.3,
 "cimVersion": "3.3.0",
 "serviceDescription": "Mapa base criado com a informação referente a hidrografia e a hipsometria da cartografia 10k da SCN10K, voo de 2018 homolgada em 2020.",
 "mapName": "Base MDT",
 "description": "Mapa base criado com a informação referente a hidrografia e a hipsometria da cartografia 10k da SCN10K, voo de 2018 homolgada em 2020.",
 "copyrightText": "SMAS de Leiria",
 "supportsDynamicLayers": true,
 "layers": [
  {
   "id": 18,
   "name": "Hipsometria",
   "parentLayerId": -1,
   "defaultVisibility": true,
   "subLayerIds": [
    14,
    15,
    16,
    17
   ],
   "minScale": 25001,
   "maxScale": 0,
   "type": "Group Layer",
   "supportsDynamicLegends": false
  },
  {
   "id": 14,
   "name": "Curvas de Nível 3D",
   "parentLayerId": 18,
   "defaultVisibility": true,
   "subLayerIds": null,
   "minScale": 0,
   "maxScale": 0,
   "type": "Feature Layer",
   "geometryType": "esriGeometryPolyline",
   "supportsDynamicLegends": true
  },
  {
   "id": 15,
   "name": "Linhas de Relevo 3D",
   "parentLayerId": 18,
   "defaultVisibility": true,
   "subLayerIds": null,
   "minScale": 10000,
   "maxScale": 0,
   "type": "Feature Layer",
   "geometryType": "esriGeometryPolyline",
   "supportsDynamicLegends": true
  },
  {
   "id": 16,
   "name": "Pontos Cotados 3D",
   "parentLayerId": 18,
   "defaultVisibility": true,
   "subLayerIds": null,
   "minScale": 10000,
   "maxScale": 0,
   "type": "Feature Layer",
   "geometryType": "esriGeometryPoint",
   "supportsDynamicLegends": true
  },
  {
   "id": 17,
   "name": "Vala",
   "parentLayerId": 18,
   "defaultVisibility": true,
   "subLayerIds": null,
   "minScale": 10000,
   "maxScale": 0,
   "type": "Feature Layer",
   "geometryType": "esriGeometryPolyline",
   "supportsDynamicLegends": true
  },
  {
   "id": 13,
   "name": "Hidrografia",
   "parentLayerId": -1,
   "defaultVisibility": true,
   "subLayerIds": [
    8,
    9,
    10,
    11,
    12
   ],
   "minScale": 25001,
   "maxScale": 0,
   "type": "Group Layer",
   "supportsDynamicLegends": false
  },
  {
   "id": 8,
   "name": "Aqueduto",
   "parentLayerId": 13,
   "defaultVisibility": true,
   "subLayerIds": null,
   "minScale": 0,
   "maxScale": 0,
   "type": "Feature Layer",
   "geometryType": "esriGeometryPolyline",
   "supportsDynamicLegends": true
  },
  {
   "id": 9,
   "name": "Depósito de Água de Superfícei",
   "parentLayerId": 13,
   "defaultVisibility": true,
   "subLayerIds": null,
   "minScale": 10000,
   "maxScale": 0,
   "type": "Feature Layer",
   "geometryType": "esriGeometryPolygon",
   "supportsDynamicLegends": true
  },
  {
   "id": 10,
   "name": "Hidrografia",
   "parentLayerId": 13,
   "defaultVisibility": true,
   "subLayerIds": null,
   "minScale": 0,
   "maxScale": 0,
   "type": "Feature Layer",
   "geometryType": "esriGeometryPolyline",
   "supportsDynamicLegends": true
  },
  {
   "id": 11,
   "name": "Lagos, Lagoas e Tanques",
   "parentLayerId": 13,
   "defaultVisibility": true,
   "subLayerIds": null,
   "minScale": 24000,
   "maxScale": 0,
   "type": "Feature Layer",
   "geometryType": "esriGeometryPolygon",
   "supportsDynamicLegends": true
  },
  {
   "id": 12,
   "name": "Piscinas",
   "parentLayerId": 13,
   "defaultVisibility": true,
   "subLayerIds": null,
   "minScale": 10000,
   "maxScale": 0,
   "type": "Feature Layer",
   "geometryType": "esriGeometryPolygon",
   "supportsDynamicLegends": true
  },
  {
   "id": 0,
   "name": "Modelo Digital de Terreno",
   "parentLayerId": -1,
   "defaultVisibility": true,
   "subLayerIds": null,
   "minScale": 0,
   "maxScale": 0,
   "type": "Raster Layer",
   "supportsDynamicLegends": true
  }
 ],
 "tables": [],
 "spatialReference": {
  "wkid": 102100,
  "latestWkid": 3857,
  "xyTolerance": 0.001,
  "zTolerance": 0.001,
  "mTolerance": 0.001,
  "falseX": -20037700,
  "falseY": -30241100,
  "xyUnits": 10000,
  "falseZ": -100000,
  "zUnits": 10000,
  "falseM": -100000,
  "mUnits": 10000
 },
 "singleFusedMapCache": true,
 "tileInfo": {
  "rows": 256,
  "cols": 256,
  "dpi": 96,
  "format": "Mixed",
  "compressionQuality": 75,
  "origin": {
   "x": -2.0037508342787E7,
   "y": 2.0037508342787E7
  },
  "spatialReference": {
   "wkid": 102100,
   "latestWkid": 3857,
   "xyTolerance": 0.001,
   "zTolerance": 0.001,
   "mTolerance": 0.001,
   "falseX": -20037700,
   "falseY": -30241100,
   "xyUnits": 1.4892314192838538E8,
   "falseZ": -100000,
   "zUnits": 10000,
   "falseM": -100000,
   "mUnits": 10000
  },
  "lods": [
   {
    "level": 0,
    "resolution": 156543.033928,
    "scale": 5.91657527591555E8
   },
   {
    "level": 1,
    "resolution": 78271.5169639999,
    "scale": 2.95828763795777E8
   },
   {
    "level": 2,
    "resolution": 39135.7584820001,
    "scale": 1.47914381897889E8
   },
   {
    "level": 3,
    "resolution": 19567.8792409999,
    "scale": 7.3957190948944E7
   },
   {
    "level": 4,
    "resolution": 9783.93962049996,
    "scale": 3.6978595474472E7
   },
   {
    "level": 5,
    "resolution": 4891.96981024998,
    "scale": 1.8489297737236E7
   },
   {
    "level": 6,
    "resolution": 2445.98490512499,
    "scale": 9244648.868618
   },
   {
    "level": 7,
    "resolution": 1222.99245256249,
    "scale": 4622324.434309
   },
   {
    "level": 8,
    "resolution": 611.49622628138,
    "scale": 2311162.217155
   },
   {
    "level": 9,
    "resolution": 305.748113140558,
    "scale": 1155581.108577
   },
   {
    "level": 10,
    "resolution": 152.874056570411,
    "scale": 577790.554289
   },
   {
    "level": 11,
    "resolution": 76.4370282850732,
    "scale": 288895.277144
   },
   {
    "level": 12,
    "resolution": 38.2185141425366,
    "scale": 144447.638572
   },
   {
    "level": 13,
    "resolution": 19.1092570712683,
    "scale": 72223.819286
   },
   {
    "level": 14,
    "resolution": 9.55462853563415,
    "scale": 36111.909643
   },
   {
    "level": 15,
    "resolution": 4.77731426794937,
    "scale": 18055.954822
   },
   {
    "level": 16,
    "resolution": 2.38865713397468,
    "scale": 9027.977411
   },
   {
    "level": 17,
    "resolution": 1.19432856685505,
    "scale": 4513.988705
   },
   {
    "level": 18,
    "resolution": 0.597164283559817,
    "scale": 2256.994353
   },
   {
    "level": 19,
    "resolution": 0.298582141647617,
    "scale": 1128.497176
   },
   {
    "level": 20,
    "resolution": 0.14929107082380833,
    "scale": 564.248588
   },
   {
    "level": 21,
    "resolution": 0.07464553541190416,
    "scale": 282.124294
   },
   {
    "level": 22,
    "resolution": 0.03732276770595208,
    "scale": 141.062147
   },
   {
    "level": 23,
    "resolution": 0.01866138385297604,
    "scale": 70.5310735
   }
  ]
 },
 "storageInfo": {
  "storageFormat": "esriMapCacheStorageModeCompactV2",
  "packetSize": 128
 },
 "initialExtent": {
  "xmin": -1063280.9964711128,
  "ymin": 4783158.3733087685,
  "xmax": -893363.5185765895,
  "ymax": 4908682.9966182355,
  "spatialReference": {
   "cs": "pcs",
   "wkid": 102100
  }
 },
 "fullExtent": {
  "xmin": -999236.2833430495,
  "ymin": 4810902.784913182,
  "xmax": -957232.7973465841,
  "ymax": 4863405.190025248,
  "spatialReference": {
   "cs": "pcs",
   "wkid": 102100
  }
 },
 "datesInUnknownTimezone": false,
 "minScale": 577790.554289,
 "maxScale": 9027.977411,
 "minLOD": 10,
 "maxLOD": 21,
 "units": "esriMeters",
 "supportedImageFormatTypes": "PNG32,PNG24,PNG,JPG,DIB,TIFF,EMF,PS,PDF,GIF,SVG,SVGZ,BMP",
 "documentInfo": {
  "Title": "Mapa Base com MDT",
  "Author": "",
  "Comments": "Mapa base criado com a informação referente a hidrografia e a hipsometria da cartografia 10k da SCN10K, voo de 2018 homolgada em 2020.",
  "Subject": "Mapa base com a hidrografia e a hipsometria do concelho de Leiria",
  "Category": "",
  "Version": "3.1.0",
  "AntialiasingMode": "None",
  "TextAntialiasingMode": "Force",
  "Keywords": "hipsometria,hidrografia,MDT,TIN,SCN10K"
 },
 "supportsQueryDomains": true,
 "capabilities": "Map,Query,Data",
 "supportedQueryFormats": "JSON, geoJSON, PBF",
 "exportTilesAllowed": true,
 "maxExportTilesCount": 100000,
 "referenceScale": 0.0,
 "datumTransformations": [
  {
   "geoTransforms": [
    {
     "wkid": 6189,
     "latestWkid": 6189,
     "transformForward": false,
     "name": "Datum_73_To_ETRS_1989_6"
    },
    {
     "wkid": 108025,
     "latestWkid": 108025,
     "transformForward": true,
     "name": "Datum_73_To_WGS_1984_NTv2"
    }
   ]
  },
  {
   "geoTransforms": [
    {
     "wkid": 108025,
     "latestWkid": 108025,
     "transformForward": false,
     "name": "Datum_73_To_WGS_1984_NTv2"
    },
    {
     "wkid": 6189,
     "latestWkid": 6189,
     "transformForward": true,
     "name": "Datum_73_To_ETRS_1989_6"
    }
   ]
  }
 ],
 "supportsDatumTransformation": true,
 "archivingInfo": {
  "supportsHistoricMoment": false
 },
 "supportsClipping": true,
 "supportsSpatialFilter": true,
 "supportsTimeRelation": true,
 "supportsQueryDataElements": true,
 "mapUnits": {
  "uwkid": 9001
 },
 "maxRecordCount": 1000,
 "maxImageHeight": 4096,
 "maxImageWidth": 4096,
 "supportedExtensions": "",
 "resampling": false,
 "serviceItemId": "76936ab07ddb400dab350ab6419292a2"
}
