View In:
ArcGIS JavaScript
ArcGIS Online Map Viewer
ArcGIS Earth
Service Description: Modelo Ditgital de Terreno da cartografia 1:10000 da SCN10K.
Name: Base/MDT_10K_2020
Description: Modelo Ditgital de Terreno da cartografia 1:10000 da SCN10K.
Single Fused Map Cache: false
Extent:
XMin: -72001.75601508767
YMin: -3469.724799990654
XMax: -41786.75601508767
YMax: 35000.275200009346
Spatial Reference: 3763
(3763)
LatestVCSWkid(0)
Initial Extent:
XMin: -72001.75601508767
YMin: -3469.724799990654
XMax: -41786.75601508767
YMax: 35000.275200009346
Spatial Reference: 3763
(3763)
LatestVCSWkid(0)
Full Extent:
XMin: -72001.75601508767
YMin: -3469.724799990654
XMax: -41786.75601508767
YMax: 35000.275200009346
Spatial Reference: 3763
(3763)
LatestVCSWkid(0)
Pixel Size X: 5.0
Pixel Size Y: 5.0
Band Count: 1
Pixel Type: F32
RasterFunction Infos: {"rasterFunctionInfos": [{
"name": "None",
"description": "",
"help": ""
}]}
Mensuration Capabilities: Basic
Inspection Capabilities:
Has Histograms: true
Has Colormap: false
Has Multi Dimensions : false
Rendering Rule:
Min Scale: 0
Max Scale: 0
Resampling: false
Copyright Text:
Service Data Type: esriImageServiceDataTypeGeneric
Min Values: -0.29034724831581116
Max Values: 416.3216552734375
Mean Values: 117.82277472186948
Standard Deviation Values: 83.13070915806082
Object ID Field:
Fields:
None
Default Mosaic Method: Center
Allowed Mosaic Methods:
SortField:
SortValue: null
Mosaic Operator: First
Default Compression Quality: 75
Default Resampling Method: Bilinear
Max Record Count: null
Max Image Height: 4100
Max Image Width: 15000
Max Download Image Count: null
Max Mosaic Image Count: null
Allow Raster Function: true
Allow Copy: true
Allow Analysis: true
Allow Compute TiePoints: false
Supports Statistics: false
Supports Advanced Queries: false
Use StandardizedQueries: true
Raster Type Infos:
Name: Raster Dataset
Description: Supports all ArcGIS Raster Datasets
Help:
Has Raster Attribute Table: false
Edit Fields Info: null
Ownership Based AccessControl For Rasters: null
Child Resources:
Info
Histograms
Statistics
Key Properties
Legend
Raster Function Infos
Supported Operations:
Export Image
Identify
Measure
Compute Histograms
Compute Statistics Histograms
Get Samples
Compute Class Statistics
Query Boundary
Compute Pixel Location
Compute Angles
Validate
Project