View In:
ArcGIS JavaScript
ArcGIS Online Map Viewer
ArcGIS Earth
ArcGIS Pro
Service Description: Mapa base criado com a informação referente a hidrografia e a hipsometria da cartografia 10k da SCN10K, voo de 2018 homolgada em 2020.
Map Name: Base MDT
Legend
All Layers and Tables
Dynamic Legend
Dynamic All Layers
Layers:
Description: Mapa base criado com a informação referente a hidrografia e a hipsometria da cartografia 10k da SCN10K, voo de 2018 homolgada em 2020.
Service Item Id: 76936ab07ddb400dab350ab6419292a2
Copyright Text: SMAS de Leiria
Spatial Reference:
102100
(3857)
LatestVCSWkid(0)
Single Fused Map Cache: true
Tile Info:
- Height: 256
- Width: 256
- DPI: 96
-
Levels of Detail: 24
-
Level ID: 1
[ Start Tile, End Tile ]
- Resolution: 78271.5169639999
- Scale: 2.95828763795777E8
-
Level ID: 2
[ Start Tile, End Tile ]
- Resolution: 39135.7584820001
- Scale: 1.47914381897889E8
-
Level ID: 3
[ Start Tile, End Tile ]
- Resolution: 19567.8792409999
- Scale: 7.3957190948944E7
-
Level ID: 4
[ Start Tile, End Tile ]
- Resolution: 9783.93962049996
- Scale: 3.6978595474472E7
-
Level ID: 5
[ Start Tile, End Tile ]
- Resolution: 4891.96981024998
- Scale: 1.8489297737236E7
- Format: Mixed
- Compression Quality: 75.0
- Origin: X: -2.0037508342787E7
Y: 2.0037508342787E7
- Spatial Reference: 102100
(3857)
LatestVCSWkid(0)
Storage Info:
- Storage Format: esriMapCacheStorageModeCompactV2
- Packet Size: 128
Initial Extent:
XMin: -1063280.9964711128
YMin: 4783158.3733087685
XMax: -893363.5185765895
YMax: 4908682.9966182355
Spatial Reference: 102100
(0)
LatestVCSWkid(0)
Full Extent:
XMin: -999236.2833430495
YMin: 4810902.784913182
XMax: -957232.7973465841
YMax: 4863405.190025248
Spatial Reference: 102100
(0)
LatestVCSWkid(0)
Units: esriMeters
Supported Image Format Types: PNG32,PNG24,PNG,JPG,DIB,TIFF,EMF,PS,PDF,GIF,SVG,SVGZ,BMP
Document Info:
Title: Mapa Base com MDT
Author:
Comments: Mapa base criado com a informação referente a hidrografia e a hipsometria da cartografia 10k da SCN10K, voo de 2018 homolgada em 2020.
Subject: Mapa base com a hidrografia e a hipsometria do concelho de Leiria
Category:
Keywords: hipsometria,hidrografia,MDT,TIN,SCN10K
AntialiasingMode: None
TextAntialiasingMode: Force
Supports Dynamic Layers: true
Resampling: false
MaxRecordCount: 1000
MaxImageHeight: 4096
MaxImageWidth: 4096
Supported Query Formats: JSON, geoJSON, PBF
Supports Query Data Elements: true
Min Scale: 577790.554289
Max Scale: 9027.977411
Min LOD: 10
Max LOD: 21
Supports Datum Transformation: true
Child Resources:
Info
Dynamic Layer
Supported Operations:
Export Map
Identify
QueryLegends
QueryDomains
Find
EstimateExportTilesSize
ExportTiles
Return Updates